BEGIN:VCALENDAR
VERSION:2.0
PRODID:-//売上倍増プラットフォームplus - ECPv6.15.14//NONSGML v1.0//EN
CALSCALE:GREGORIAN
METHOD:PUBLISH
X-ORIGINAL-URL:https://biz-e.net
X-WR-CALDESC:売上倍増プラットフォームplus のイベント
REFRESH-INTERVAL;VALUE=DURATION:PT1H
X-Robots-Tag:noindex
X-PUBLISHED-TTL:PT1H
BEGIN:VTIMEZONE
TZID:Asia/Tokyo
BEGIN:STANDARD
TZOFFSETFROM:+0900
TZOFFSETTO:+0900
TZNAME:JST
DTSTART:20250101T000000
END:STANDARD
END:VTIMEZONE
BEGIN:VEVENT
DTSTART;TZID=Asia/Tokyo:20260513T120000
DTEND;TZID=Asia/Tokyo:20260513T143000
DTSTAMP:20260421T191459
CREATED:20260421T100444Z
LAST-MODIFIED:20260421T100444Z
UID:927-1778673600-1778682600@biz-e.net
SUMMARY:ランチ交流会（茨木市倫理法人会）in茨木市
DESCRIPTION:ランチ交流会　主催　茨木市倫理法人会 \n\n【開催日時】5月13日（水）12:00～14:30（受付 11:30～） \n\n【会場】割烹 片桐茨木市元町6-3阪急茨木市より徒歩5分 \n\n【参加費】※食事代込み \n一般　3\,000円他単会　2\,500円自単会　2\,000円 \n\n～ブース出展～1\,000円（60秒PR含・最大10ブース） \n～チラシPR～500円（60秒PR含・最大10名） \n\nSNS運用のコツを伝授！ \nSNS「なんとなく運用」を卒業しよう \n考えるべき内容は3つだけ \n① 商品② 誰が買うか③ 何を悩んでいるか \nについてお話しします！ \n\nフルーナ代表Annie（アニー）さん \n\n問い合わせは鏡堂さん迄
URL:https://biz-e.net/event/%e3%83%a9%e3%83%b3%e3%83%81%e4%ba%a4%e6%b5%81%e4%bc%9a%ef%bc%88%e8%8c%a8%e6%9c%a8%e5%b8%82%e5%80%ab%e7%90%86%e6%b3%95%e4%ba%ba%e4%bc%9a%ef%bc%89in%e8%8c%a8%e6%9c%a8%e5%b8%82/
LOCATION:茨木市
CATEGORIES:イベント,交流会
ATTACH;FMTTYPE=image/png:https://biz-e.net/wp-content/uploads/2026/04/スクリーンショット-2026-04-21-190056.png
END:VEVENT
BEGIN:VEVENT
DTSTART;TZID=Asia/Tokyo:20260615T100000
DTEND;TZID=Asia/Tokyo:20260615T203000
DTSTAMP:20260421T191459
CREATED:20260331T035757Z
LAST-MODIFIED:20260331T035859Z
UID:810-1781517600-1781555400@biz-e.net
SUMMARY:MIRAISマルシェ交流会　in 大阪市
DESCRIPTION:6月15日に\n大阪市中央公会堂で\n「MIRAISマルシェ交流会」を開催します！ \n交流・マルシェ・謎解きゲームが\n一度に楽しめるイベントです✨ \n🟧 3つのポイント \n1️⃣ 3部制交流会\n総勢700名以上が参加予定！\nいろんな人と出会える交流イベントです。 \n2️⃣ マルシェ\n健康・美容・アート・フードなど\n73店舗が出店します。\n見て回るだけでも楽しめます。 \n3️⃣ 謎解きゲーム\n会場を回りながら楽しめる企画です！\n懐かしのゲーム機や\nディズニーチケットが当たります🎁 \n  \n【日時】\n6月15日（月）\n10:30〜20:30 \n【入場料】\n2\,500円 \n【会場】\n大阪市中央公会堂 中集会室 \n出入り自由なので\nご都合の良い時間に\nぜひ遊びに来てください😊 \n  \n申込みはこちらから！\nhttps://docs.google.com/forms/d/1WTBaGgsJSZlJY4O46uodxJ55zOPq2CeeLhfr0LKFxCA/edit?usp=drivesdk
URL:https://biz-e.net/event/mirais%e3%83%9e%e3%83%ab%e3%82%b7%e3%82%a7%e4%ba%a4%e6%b5%81%e4%bc%9a%e3%80%80in-%e5%a4%a7%e9%98%aa%e5%b8%82/
LOCATION:大阪市中央公会堂
CATEGORIES:イベント
ATTACH;FMTTYPE=image/png:https://biz-e.net/wp-content/uploads/2026/03/mira.png
END:VEVENT
END:VCALENDAR